BEGIN:VCALENDAR
VERSION:2.0
PRODID:-//wp-events-plugin.com//7.2.3.1//EN
BEGIN:VEVENT
UID:43@wacomontessorischool.org
DTSTART;VALUE=DATE:20240216
DTEND;VALUE=DATE:20240217
DTSTAMP:20230712T202050Z
URL:https://wacomontessorischool.org/events/mid-year-progress-reports/
SUMMARY:Mid-year Progress Reports
DESCRIPTION:
END:VEVENT
END:VCALENDAR