BEGIN:VCALENDAR
VERSION:2.0
PRODID:-//wp-events-plugin.com//7.2.3.1//EN
BEGIN:VEVENT
UID:98@wacomontessorischool.org
DTSTART;TZID=America/Chicago:20231211T153000
DTEND;TZID=America/Chicago:20231211T160000
DTSTAMP:20230905T184153Z
URL:https://wacomontessorischool.org/events/chess-club-mondays-3-2023-12-1
 1/
SUMMARY:Chess Club Mondays
DESCRIPTION:
END:VEVENT
BEGIN:VTIMEZONE
TZID:America/Chicago
X-LIC-LOCATION:America/Chicago
BEGIN:STANDARD
DTSTART:20231105T010000
TZOFFSETFROM:-0500
TZOFFSETTO:-0600
TZNAME:CST
END:STANDARD
END:VTIMEZONE
END:VCALENDAR